Workbook

Sheet 작성시트
A1: 2027년도 제70차 전문의 자격시험 응시자격 심사목록표
A2: 응시자 인적사항 | E2: ★ 본 양식에 맞추어 기재하여 주시고, 동일 항목 추가시 행 삽입하여 기재하여 주시기 바랍니다.
A3: 수험번호 | E3: 1. 수험번호는 기재하지 마시고, 나머지 인적사항에 대해 작성해주세요.
A4: 의사면허번호 | C4: 000000 | E4: 2. 의사면허번호/생년월일/성명은 기타 서류와 동일해야 합니다.
A5: 생년월일 (예: 940325) | C5: 000000 | E5: 3. 영문 성명은 추후에 정회원증에 그대로 인쇄되오니 정확히 기재하여 주시기 바랍니다.
A6: 소속 | C6: ㅇㅇ의대 ㅇㅇ병원 | E6: 4. 심사목록표 및 증빙서류들은 모두 http://exam.kams.or.kr로 업로드하시기 바랍니다.
A7: 성명(한글) | E7: 5. 총 6점에 해당하는 사항 외 그 이상을 초과하여 기재하실 필요는 없습니다. | I7: 점수총합 (자동계산) | J7: =J19+J20+J26+J27+J33+J34+C39+H39 -> 0
A8: 성명(영문) | E8: *수련기간 중 사직기간이 포함되어있는 경우 날짜 입력 요망 (없으면 "해당 없음" 으로 기재)
A9: 사직기간 | C9: 2024.00.00.~2025.00.00.
A11: 필수 확인사항 | H11: 동의여부
A12: 상기인은 <2027년도 제70차 산부인과 전문의 자격시험> 응시를 위하여 제출한 기록의 내용이 사실과 다름이 없음을 증명하며, 사실과 다를 경우에는 학회의 어떠한 조치에도 이의를 제기하지 않을 것임을 확약합니다.
I13: * 동의여부 체크 필수
A15: ◈ 논문게재 | J15: 자동 계산
B16: ↓-------------클릭 후 선택박스에서 선택 (임의 텍스트 입력 금지)-------------↓
A17: NO | B17: 논문 유형 | C17: 학술지 구분 | D17: 저자 구분 | E17: 학술지명 | F17: 논문(초록)제목 | H17: 최종 게재일 (Published) | I17: 게재완료/게재예정 | J17: 점수 | L17: 기준 | M17: vlup
A18: 예시 | B18: 원저 (original article) | C18: OGS(구 대한산부인과학회지(KJOG) 포함) | D18: 공동 제1저자 | E18: Obstetrics&Gynecology Science | F18: ㅇㅇㅇㅇㅇㅇㅇㅇㅇㅇㅇ | I18: 게재완료
A19: 1 | J19: =IFERROR(M19,0) -> 0 | L19: =B19&C19&D19 | M19: =VLOOKUP(L19,Sheet1!D:E,2,0) -> #N/A
A20: 2 | J20: =IFERROR(M20,0) -> 0 | L20: =B20&C20&D20 | M20: =VLOOKUP(L20,Sheet1!D:E,2,0) -> #N/A
M21: =VLOOKUP(L21,Sheet1!D:E,2,0) -> #N/A
A22: ◈ 구연 및 포스터 (대한산부인과학회 및 OGS 공동발행자학회 학술대회) | M22: =VLOOKUP(L22,Sheet1!D:E,2,0) -> #N/A
B23: ↓-----클릭 후 선택박스에서 선택 (임의 텍스트 입력 금지)-----↓ | M23: =VLOOKUP(L23,Sheet1!D:E,2,0) -> #N/A
A24: NO | B24: 해당 학회 | C24: 구분 | D24: 학술대회명 | F24: 제목 | H24: 개최일 | I24: 증빙여부 | J24: 점수 | M24: =VLOOKUP(L24,Sheet1!D:E,2,0) -> #N/A
A25: 예시 | B25: 대한산부인과학회 | C25: 일반연제 제1저자 and 구연발표자 (모두 충족) | D25: ㅇㅇㅇㅇㅇㅇ | F25: ㅇㅇㅇㅇㅇㅇㅇㅇㅇㅇ | H25: 2026.00.00. | I25: 제출완료 | M25: =VLOOKUP(L25,Sheet1!D:E,2,0) -> #N/A
A26: 1 | J26: =IFERROR(M26,0) -> 0 | L26: =B26&C26 | M26: =VLOOKUP(L26,Sheet1!D:E,2,0) -> #N/A
A27: 2 | J27: =IFERROR(M27,0) -> 0 | L27: =B27&C27 | M27: =VLOOKUP(L27,Sheet1!D:E,2,0) -> #N/A
M28: =VLOOKUP(L28,Sheet1!D:E,2,0) -> #N/A
A29: ◈ 구연 및 포스터 (OGS 공동발행자학회 이외의 자학회 학술대회) | M29: =VLOOKUP(L29,Sheet1!D:E,2,0) -> #N/A
B30: ↓-----클릭 후 선택박스에서 선택 (임의 텍스트 입력 금지)-----↓ | M30: =VLOOKUP(L30,Sheet1!D:E,2,0) -> #N/A
A31: NO | B31: 해당 학회 | C31: 구분 | D31: 학술대회명 | F31: 제목 | H31: 개최일 | I31: 증빙여부 | J31: 점수 | M31: =VLOOKUP(L31,Sheet1!D:E,2,0) -> #N/A
A32: 예시 | B32: 대한부인종양학회 | C32: 일반연제 제1저자 or 구연발표자 (한가지만 충족) | D32: ㅇㅇㅇㅇㅇㅇㅇㅇㅇㅇㅇㅇㅇ | F32: ㅇㅇㅇㅇㅇㅇㅇㅇㅇㅇ | H32: 2023.00.00. | I32: 제출완료 | M32: =VLOOKUP(L32,Sheet1!D:E,2,0) -> #N/A
A33: 1 | J33: =IFERROR(M33,0) -> 0 | L33: =B33&C33 | M33: =VLOOKUP(L33,Sheet1!D:E,2,0) -> #N/A
A34: 2 | J34: =IFERROR(M34,0) -> 0 | L34: =B34&C34 | M34: =VLOOKUP(L34,Sheet1!D:E,2,0) -> #N/A
A36: ◈ 연수평점 (대한산부인과학회 및 대한산부인과학회 자학회의 학술대회 및 연수강좌) | E36: ◈ 대한산부인과학회가 주최하는 국내 개최 국제학술대회(서울국제심포지엄) 참석
B37: 획득 평점 | C37: 점수 (자동계산) | F37: ↓-----클릭 후 선택박스에서 선택 (임의 텍스트 입력 금지)-----↓
A38: 예시 | B38: 50 | C38: =B38/10 -> 5 | F38: 학회명 | H38: 점수(자동계산)
A39: 1 | C39: =B39/10 -> 0 | E39: 1 | H39: =IFERROR(M39,0) -> 0 | M39: =VLOOKUP(F39,Sheet1!D:E,2,0) -> #N/A

Sheet Sheet2
A1: OGS(구 대한산부인과학회지(KJOG) 포함) | B1: 대한산부인과학회 | D1: OGS 원저 제1저자
A2: OGS 이외의 대한산부인과학회 자학회 학술지 | B2: 대한모체태아의학회 | D2: OGS 원저 공동제1저자 | J2: OGS(구 대한산부인과학회지(KJOG) 포함)
A3: SCI(E) 등재 학술지 | B3: 대한비뇨부인과학회 | D3: OGS 증례보고 제1저자 | J3: OGS 이외의 대한산부인과학회 자학회 학술지
A4: Index medicus, Korea med, Scopus, ESCI 등재 학술지 | B4: 대한산부인과내분비학회 | D4: OGS 증례보고 공동제1저자 | J4: SCI(E) 등재 학술지
B5: 대한산부인과내시경학회 | D5: OGS Short Communication 제1저자 | J5: Index medicus, Korea med, Scopus, ESCI 등재 학술지
B6: 대한산부인과초음파학회 | D6: OGS Short Communication 공동제1저자
A7: 원저 (original article) | B7: 대한피임생식보건학회 | D7: OGS 공동저자
A8: 증례보고 (case report) | B8: 대한자궁내막증학회 | D8: 자학회 학술지 제1저자
A9: Short Communication | D9: 자학회 학술지 공동제1저자
A10: 종설 (Review article) | B10: 일반연제 제1저자 and 구연발표자 (모두 충족) | D10: SCIE 등재 학술지 제1저자
A11: 기타 | B11: 일반연제 제1저자 or 구연발표자 (한가지만 충족) | D11: SCIE 등재 학술지 공동 제1저자
B12: 포스터 제1저자 | D12: SCIE 등재 학술지 공동저자
A13: 제1저자 | D13: Index medicus, Korea med, Scopus, ESCI 등재 학술지 제1저자
A14: 공동 제1저자 | B14: 대한부인종양학회 | D14: Index medicus, Korea med, Scopus, ESCI 등재 학술지 공동제1저자
A15: 공동저자 | B15: 대한보조생식학회 | D15: Index medicus, Korea med, Scopus, ESCI 등재 학술지 공동저자
B16: 대한폐경학회
B17: 대한주산의학회
B18: 대한가임력보존학회 | D18: 대한산부인과학회 및 OGS 공동발행자학회 학술대회
B19: 대한골반통학회 | D19: OGS 공동발행자학회 이외의 자학회 학술대회
B21: 일반연제 제1저자 and 구연발표자 (모두 충족)
B22: 일반연제 제1저자 or 구연발표자 (한가지만 충족)
B24: The 26th Seoul International Symposium
B25: The 27th Seoul International Symposium
B26: The 28th Seoul International Symposium
B27: The 29th Seoul International Symposium
B28: The 30th Seoul International Symposium
B29: The 31th Seoul International Symposium

Sheet Sheet1
A1: 구분1 | B1: 구분2 | C1: 구분3 | D1: 기준 | E1: 점수
A2: 원저 (original article) | B2: OGS(구 대한산부인과학회지(KJOG) 포함) | C2: 제1저자 | D2: =A2&B2&C2 -> 원저 (original article)OGS(구 대한산부인과학회지(KJOG) 포함) 제1저자 | E2: 6
A3: 원저 (original article) | B3: OGS(구 대한산부인과학회지(KJOG) 포함) | C3: 공동 제1저자 | D3: =A3&B3&C3 -> 원저 (original article)OGS(구 대한산부인과학회지(KJOG) 포함) 공동 제1저자 | E3: 4
A4: 원저 (original article) | B4: OGS(구 대한산부인과학회지(KJOG) 포함) | C4: 공동저자 | D4: =A4&B4&C4 -> 원저 (original article)OGS(구 대한산부인과학회지(KJOG) 포함) 공동저자 | E4: 2
A5: 원저 (original article) | B5: OGS 이외의 대한산부인과학회 자학회 학술지 | C5: 제1저자 | D5: =A5&B5&C5 -> 원저 (original article)OGS 이외의 대한산부인과학회 자학회 학술지제1저자 | E5: 2
A6: 원저 (original article) | B6: OGS 이외의 대한산부인과학회 자학회 학술지 | C6: 공동 제1저자 | D6: =A6&B6&C6 -> 원저 (original article)OGS 이외의 대한산부인과학회 자학회 학술지공동 제1저자 | E6: 1
A7: 원저 (original article) | B7: OGS 이외의 대한산부인과학회 자학회 학술지 | C7: 공동저자 | D7: =A7&B7&C7 -> 원저 (original article)OGS 이외의 대한산부인과학회 자학회 학술지공동저자 | E7: 0
A8: 원저 (original article) | B8: SCI(E) 등재 학술지 | C8: 제1저자 | D8: =A8&B8&C8 -> 원저 (original article)SCI(E) 등재 학술지제1저자 | E8: 4
A9: 원저 (original article) | B9: SCI(E) 등재 학술지 | C9: 공동 제1저자 | D9: =A9&B9&C9 -> 원저 (original article)SCI(E) 등재 학술지공동 제1저자 | E9: 3
A10: 원저 (original article) | B10: SCI(E) 등재 학술지 | C10: 공동저자 | D10: =A10&B10&C10 -> 원저 (original article)SCI(E) 등재 학술지공동저자 | E10: 1
A11: 원저 (original article) | B11: Index medicus, Korea med, Scopus, ESCI 등재 학술지 | C11: 제1저자 | D11: =A11&B11&C11 -> 원저 (original article)Index medicus, Korea med, Scopus, ESCI 등재 학술지제1저자 | E11: 2
A12: 원저 (original article) | B12: Index medicus, Korea med, Scopus, ESCI 등재 학술지 | C12: 공동 제1저자 | D12: =A12&B12&C12 -> 원저 (original article)Index medicus, Korea med, Scopus, ESCI 등재 학술지공동 제1저자 | E12: 1
A13: 원저 (original article) | B13: Index medicus, Korea med, Scopus, ESCI 등재 학술지 | C13: 공동저자 | D13: =A13&B13&C13 -> 원저 (original article)Index medicus, Korea med, Scopus, ESCI 등재 학술지공동저자 | E13: 1
... A49: 종설 (Review article) | B49: Index medicus, Korea med, Scopus, ESCI 등재 학술지 | C49: 공동저자 | D49: =A49&B49&C49 -> 종설 (Review article)Index medicus, Korea med, Scopus, ESCI 등재 학술지공동저자 | E49: 1
A50: 기타 | B50: OGS(구 대한산부인과학회지(KJOG) 포함) | C50: 제1저자 | D50: =A50&B50&C50 -> 기타OGS(구 대한산부인과학회지(KJOG) 포함) 제1저자 | E50: -
A51: 기타 | B51: OGS(구 대한산부인과학회지(KJOG) 포함) | C51: 공동 제1저자 | D51: =A51&B51&C51 -> 기타OGS(구 대한산부인과학회지(KJOG) 포함) 공동 제1저자 | E51: -
A52: 기타 | B52: OGS(구 대한산부인과학회지(KJOG) 포함) | C52: 공동저자 | D52: =A52&B52&C52 -> 기타OGS(구 대한산부인과학회지(KJOG) 포함) 공동저자 | E52: -
A53: 기타 | B53: OGS 이외의 대한산부인과학회 자학회 학술지 | C53: 제1저자 | D53: =A53&B53&C53 -> 기타OGS 이외의 대한산부인과학회 자학회 학술지제1저자 | E53: 2
A54: 기타 | B54: OGS 이외의 대한산부인과학회 자학회 학술지 | C54: 공동 제1저자 | D54: =A54&B54&C54 -> 기타OGS 이외의 대한산부인과학회 자학회 학술지공동 제1저자 | E54: 1
A55: 기타 | B55: OGS 이외의 대한산부인과학회 자학회 학술지 | C55: 공동저자 | D55: =A55&B55&C55 -> 기타OGS 이외의 대한산부인과학회 자학회 학술지공동저자 | E55: 0
A56: 기타 | B56: SCI(E) 등재 학술지 | C56: 제1저자 | D56: =A56&B56&C56 -> 기타SCI(E) 등재 학술지제1저자 | E56: 4
A57: 기타 | B57: SCI(E) 등재 학술지 | C57: 공동 제1저자 | D57: =A57&B57&C57 -> 기타SCI(E) 등재 학술지공동 제1저자 | E57: 3
A58: 기타 | B58: SCI(E) 등재 학술지 | C58: 공동저자 | D58: =A58&B58&C58 -> 기타SCI(E) 등재 학술지공동저자 | E58: 1
A59: 기타 | B59: Index medicus, Korea med, Scopus, ESCI 등재 학술지 | C59: 제1저자 | D59: =A59&B59&C59 -> 기타Index medicus, Korea med, Scopus, ESCI 등재 학술지제1저자 | E59: 2
A60: 기타 | B60: Index medicus, Korea med, Scopus, ESCI 등재 학술지 | C60: 공동 제1저자 | D60: =A60&B60&C60 -> 기타Index medicus, Korea med, Scopus, ESCI 등재 학술지공동 제1저자 | E60: 1
A61: 기타 | B61: Index medicus, Korea med, Scopus, ESCI 등재 학술지 | C61: 공동저자 | D61: =A61&B61&C61 -> 기타Index medicus, Korea med, Scopus, ESCI 등재 학술지공동저자 | E61: 1
A62: 대한산부인과학회 | B62: 일반연제 제1저자 and 구연발표자 (모두 충족) | D62: =A62&B62 -> 대한산부인과학회일반연제 제1저자 and 구연발표자 (모두 충족) | E62: 2
A63: 대한산부인과학회 | B63: 일반연제 제1저자 or 구연발표자 (한가지만 충족) | D63: =A63&B63 -> 대한산부인과학회일반연제 제1저자 or 구연발표자 (한가지만 충족) | E63: 1
A64: 대한산부인과학회 | B64: 포스터 제1저자 | D64: =A64&B64 -> 대한산부인과학회포스터 제1저자 | E64: 1
A65: 대한모체태아의학회 | B65: 일반연제 제1저자 and 구연발표자 (모두 충족) | D65: =A65&B65 -> 대한모체태아의학회일반연제 제1저자 and 구연발표자 (모두 충족) | E65: 2
A66: 대한모체태아의학회 | B66: 일반연제 제1저자 or 구연발표자 (한가지만 충족) | D66: =A66&B66 -> 대한모체태아의학회일반연제 제1저자 or 구연발표자 (한가지만 충족) | E66: 1
A67: 대한모체태아의학회 | B67: 포스터 제1저자 | D67: =A67&B67 -> 대한모체태아의학회포스터 제1저자 | E67: 1
A68: 대한비뇨부인과학회 | B68: 일반연제 제1저자 and 구연발표자 (모두 충족) | D68: =A68&B68 -> 대한비뇨부인과학회일반연제 제1저자 and 구연발표자 (모두 충족) | E68: 2
A69: 대한비뇨부인과학회 | B69: 일반연제 제1저자 or 구연발표자 (한가지만 충족) | D69: =A69&B69 -> 대한비뇨부인과학회일반연제 제1저자 or 구연발표자 (한가지만 충족) | E69: 1
A70: 대한비뇨부인과학회 | B70: 포스터 제1저자 | D70: =A70&B70 -> 대한비뇨부인과학회포스터 제1저자 | E70: 1
A71: 대한산부인과내분비학회 | B71: 일반연제 제1저자 and 구연발표자 (모두 충족) | D71: =A71&B71 -> 대한산부인과내분비학회일반연제 제1저자 and 구연발표자 (모두 충족) | E71: 2
A72: 대한산부인과내분비학회 | B72: 일반연제 제1저자 or 구연발표자 (한가지만 충족) | D72: =A72&B72 -> 대한산부인과내분비학회일반연제 제1저자 or 구연발표자 (한가지만 충족) | E72: 1
A73: 대한산부인과내분비학회 | B73: 포스터 제1저자 | D73: =A73&B73 -> 대한산부인과내분비학회포스터 제1저자 | E73: 1
... A97: 대한골반통학회 | B97: 일반연제 제1저자 or 구연발표자 (한가지만 충족) | D97: =A97&B97 -> 대한골반통학회일반연제 제1저자 or 구연발표자 (한가지만 충족) | E97: 0.5
D98: The 26th Seoul International Symposium | E98: 1
...
